BEGIN:VCALENDAR
VERSION:2.0
PRODID:-//Arizona Pipe Trades - ECPv6.15.20//NONSGML v1.0//EN
CALSCALE:GREGORIAN
METHOD:PUBLISH
X-ORIGINAL-URL:https://pipetrades.org
X-WR-CALDESC:Events for Arizona Pipe Trades
REFRESH-INTERVAL;VALUE=DURATION:PT1H
X-Robots-Tag:noindex
X-PUBLISHED-TTL:PT1H
BEGIN:VTIMEZONE
TZID:UTC
BEGIN:STANDARD
TZOFFSETFROM:+0000
TZOFFSETTO:+0000
TZNAME:UTC
DTSTART:20250101T000000
END:STANDARD
END:VTIMEZONE
BEGIN:VEVENT
DTSTART;TZID=UTC:20261114T070000
DTEND;TZID=UTC:20261114T170000
DTSTAMP:20260420T070456
CREATED:20250519T221215Z
LAST-MODIFIED:20260121T222403Z
UID:10000114-1794639600-1794675600@pipetrades.org
SUMMARY:Continuity
DESCRIPTION:
URL:https://pipetrades.org/event/continuity-2/2026-11-14/
CATEGORIES:Continuity
END:VEVENT
END:VCALENDAR