BEGIN:VCALENDAR
VERSION:2.0
PRODID:-//Arizona Pipe Trades - ECPv6.15.20//NONSGML v1.0//EN
CALSCALE:GREGORIAN
METHOD:PUBLISH
X-ORIGINAL-URL:https://pipetrades.org
X-WR-CALDESC:Events for Arizona Pipe Trades
REFRESH-INTERVAL;VALUE=DURATION:PT1H
X-Robots-Tag:noindex
X-PUBLISHED-TTL:PT1H
BEGIN:VTIMEZONE
TZID:UTC
BEGIN:STANDARD
TZOFFSETFROM:+0000
TZOFFSETTO:+0000
TZNAME:UTC
DTSTART:20230101T000000
END:STANDARD
END:VTIMEZONE
BEGIN:VEVENT
DTSTART;TZID=UTC:20241113T170000
DTEND;TZID=UTC:20241113T210000
DTSTAMP:20260421T135144
CREATED:20240502T231058Z
LAST-MODIFIED:20240502T231144Z
UID:10000071-1731517200-1731531600@pipetrades.org
SUMMARY:Union Awareness
DESCRIPTION:
URL:https://pipetrades.org/event/union-awareness/2024-11-13/
LOCATION:UA Local 469\, 3109 N. 24th St\, Phoenix\, AZ\, 85016\, United States
CATEGORIES:Union Awareness
END:VEVENT
END:VCALENDAR