BEGIN:VCALENDAR
VERSION:2.0
PRODID:-//Arizona Pipe Trades - ECPv6.15.20//NONSGML v1.0//EN
CALSCALE:GREGORIAN
METHOD:PUBLISH
X-ORIGINAL-URL:https://pipetrades.org
X-WR-CALDESC:Events for Arizona Pipe Trades
REFRESH-INTERVAL;VALUE=DURATION:PT1H
X-Robots-Tag:noindex
X-PUBLISHED-TTL:PT1H
BEGIN:VTIMEZONE
TZID:UTC
BEGIN:STANDARD
TZOFFSETFROM:+0000
TZOFFSETTO:+0000
TZNAME:UTC
DTSTART:20240101T000000
END:STANDARD
END:VTIMEZONE
BEGIN:VEVENT
DTSTART;VALUE=DATE:20250201
DTEND;VALUE=DATE:20250301
DTSTAMP:20260419T203014
CREATED:20250113T155130Z
LAST-MODIFIED:20250113T155130Z
UID:10000085-1738368000-1740787199@pipetrades.org
SUMMARY:OSHA 30 - Online Course February 2025
DESCRIPTION:This class is for UA Members and their Affiliates Only. You may not enroll in this course if you are neither. \n\nDescription:This online course provides the OSHA Outreach training for the OSHA 30 card. Students who successfully complete this course will obtain an OSHA 30hr card from an Authorized OTI. \nAfter you register for this class you will be emailed\, within 48 hours\, a link with information on username and password in order to take the course. \nRequirements: Eligible Persons Only. \nPrerequisites: None \nCourseNo:OSH 200
URL:https://pipetrades.org/event/osha-30-online-course-february-2025/
CATEGORIES:OSHA
END:VEVENT
BEGIN:VEVENT
DTSTART;VALUE=DATE:20250301
DTEND;VALUE=DATE:20250401
DTSTAMP:20260419T203014
CREATED:20250113T155524Z
LAST-MODIFIED:20250113T155539Z
UID:10000086-1740787200-1743465599@pipetrades.org
SUMMARY:OSHA 30 - Online Course March 2025
DESCRIPTION:This class is for UA Members and their Affiliates Only. You may not enroll in this course if you are neither. \n\nDescription:This online course provides the OSHA Outreach training for the OSHA 30 card. Students who successfully complete this course will obtain an OSHA 30hr card from an Authorized OTI. \nAfter you register for this class you will be emailed\, within 48 hours\, a link with information on username and password in order to take the course. \nRequirements: Eligible Persons Only. \nPrerequisites: None \nCourseNo:OSH 200
URL:https://pipetrades.org/event/osha-30-online-course-march-2025/
CATEGORIES:OSHA
END:VEVENT
BEGIN:VEVENT
DTSTART;VALUE=DATE:20250401
DTEND;VALUE=DATE:20250501
DTSTAMP:20260419T203014
CREATED:20250113T155647Z
LAST-MODIFIED:20250113T155647Z
UID:10000087-1743465600-1746057599@pipetrades.org
SUMMARY:OSHA 30 - Online Course April 2025
DESCRIPTION:This class is for UA Members and their Affiliates Only. You may not enroll in this course if you are neither. \nDescription:This online course provides the OSHA Outreach training for the OSHA 30 card. Students who successfully complete this course will obtain an OSHA 30hr card from an Authorized OTI. \nAfter you register for this class you will be emailed\, within 48 hours\, a link with information on username and password in order to take the course. \nRequirements: Eligible Persons Only. \nPrerequisites: None \nCourseNo:OSH 200
URL:https://pipetrades.org/event/osha-30-online-course-april-2025/
CATEGORIES:OSHA
END:VEVENT
BEGIN:VEVENT
DTSTART;VALUE=DATE:20250501
DTEND;VALUE=DATE:20250601
DTSTAMP:20260419T203014
CREATED:20250113T155940Z
LAST-MODIFIED:20250113T155940Z
UID:10000088-1746057600-1748735999@pipetrades.org
SUMMARY:OSHA 30 - Online Course May 2025
DESCRIPTION:This class is for UA Members and their Affiliates Only. You may not enroll in this course if you are neither. \nDescription:This online course provides the OSHA Outreach training for the OSHA 30 card. Students who successfully complete this course will obtain an OSHA 30hr card from an Authorized OTI. \nAfter you register for this class you will be emailed\, within 48 hours\, a link with information on username and password in order to take the course. \nRequirements: Eligible Persons Only. \nPrerequisites: None \nCourseNo:OSH 200
URL:https://pipetrades.org/event/osha-30-online-course-may-2025/
CATEGORIES:OSHA
END:VEVENT
BEGIN:VEVENT
DTSTART;TZID=UTC:20250510T070000
DTEND;TZID=UTC:20250510T170000
DTSTAMP:20260419T203014
CREATED:20250519T221215Z
LAST-MODIFIED:20260121T222403Z
UID:10000096-1746860400-1746896400@pipetrades.org
SUMMARY:Continuity
DESCRIPTION:
URL:https://pipetrades.org/event/continuity-2/2025-05-10/
CATEGORIES:Continuity
END:VEVENT
BEGIN:VEVENT
DTSTART;VALUE=DATE:20250601
DTEND;VALUE=DATE:20250701
DTSTAMP:20260419T203014
CREATED:20250113T160042Z
LAST-MODIFIED:20250113T160042Z
UID:10000089-1748736000-1751327999@pipetrades.org
SUMMARY:OSHA 30 - Online Course June 2025
DESCRIPTION:This class is for UA Members and their Affiliates Only. You may not enroll in this course if you are neither. \nDescription:This online course provides the OSHA Outreach training for the OSHA 30 card. Students who successfully complete this course will obtain an OSHA 30hr card from an Authorized OTI. \nAfter you register for this class you will be emailed\, within 48 hours\, a link with information on username and password in order to take the course. \nRequirements: Eligible Persons Only. \nPrerequisites: None \nCourseNo:OSH 200
URL:https://pipetrades.org/event/osha-30-online-course-june-2025/
CATEGORIES:OSHA
END:VEVENT
BEGIN:VEVENT
DTSTART;TZID=UTC:20250614T070000
DTEND;TZID=UTC:20250614T170000
DTSTAMP:20260419T203014
CREATED:20250519T221215Z
LAST-MODIFIED:20260121T222403Z
UID:10000097-1749884400-1749920400@pipetrades.org
SUMMARY:Continuity
DESCRIPTION:
URL:https://pipetrades.org/event/continuity-2/2025-06-14/
CATEGORIES:Continuity
END:VEVENT
BEGIN:VEVENT
DTSTART;VALUE=DATE:20250701
DTEND;VALUE=DATE:20250801
DTSTAMP:20260419T203014
CREATED:20250113T160201Z
LAST-MODIFIED:20250113T160201Z
UID:10000090-1751328000-1754006399@pipetrades.org
SUMMARY:OSHA 30 - Online Course July 2025
DESCRIPTION:This class is for UA Members and their Affiliates Only. You may not enroll in this course if you are neither. \nDescription:This online course provides the OSHA Outreach training for the OSHA 30 card. Students who successfully complete this course will obtain an OSHA 30hr card from an Authorized OTI. \nAfter you register for this class you will be emailed\, within 48 hours\, a link with information on username and password in order to take the course. \nRequirements: Eligible Persons Only. \nPrerequisites: None \nCourseNo:OSH 200
URL:https://pipetrades.org/event/osha-30-online-course-july-2025/
CATEGORIES:OSHA
END:VEVENT
BEGIN:VEVENT
DTSTART;TZID=UTC:20250712T070000
DTEND;TZID=UTC:20250712T170000
DTSTAMP:20260419T203014
CREATED:20250519T221215Z
LAST-MODIFIED:20260121T222403Z
UID:10000098-1752303600-1752339600@pipetrades.org
SUMMARY:Continuity
DESCRIPTION:
URL:https://pipetrades.org/event/continuity-2/2025-07-12/
CATEGORIES:Continuity
END:VEVENT
BEGIN:VEVENT
DTSTART;VALUE=DATE:20250801
DTEND;VALUE=DATE:20250901
DTSTAMP:20260419T203014
CREATED:20250113T160328Z
LAST-MODIFIED:20250113T160328Z
UID:10000091-1754006400-1756684799@pipetrades.org
SUMMARY:OSHA 30 - Online Course August 2025
DESCRIPTION:This class is for UA Members and their Affiliates Only. You may not enroll in this course if you are neither. \nDescription:This online course provides the OSHA Outreach training for the OSHA 30 card. Students who successfully complete this course will obtain an OSHA 30hr card from an Authorized OTI. \nAfter you register for this class you will be emailed\, within 48 hours\, a link with information on username and password in order to take the course. \nRequirements: Eligible Persons Only. \nPrerequisites: None \nCourseNo:OSH 200
URL:https://pipetrades.org/event/osha-30-online-course-august-2025/
CATEGORIES:OSHA
END:VEVENT
BEGIN:VEVENT
DTSTART;TZID=UTC:20250809T070000
DTEND;TZID=UTC:20250809T170000
DTSTAMP:20260419T203014
CREATED:20250519T221215Z
LAST-MODIFIED:20260121T222403Z
UID:10000099-1754722800-1754758800@pipetrades.org
SUMMARY:Continuity
DESCRIPTION:
URL:https://pipetrades.org/event/continuity-2/2025-08-09/
CATEGORIES:Continuity
END:VEVENT
BEGIN:VEVENT
DTSTART;VALUE=DATE:20250901
DTEND;VALUE=DATE:20251001
DTSTAMP:20260419T203014
CREATED:20250113T160438Z
LAST-MODIFIED:20250113T160438Z
UID:10000092-1756684800-1759276799@pipetrades.org
SUMMARY:OSHA 30 - Online Course September 2025
DESCRIPTION:This class is for UA Members and their Affiliates Only. You may not enroll in this course if you are neither. \nDescription:This online course provides the OSHA Outreach training for the OSHA 30 card. Students who successfully complete this course will obtain an OSHA 30hr card from an Authorized OTI. \nAfter you register for this class you will be emailed\, within 48 hours\, a link with information on username and password in order to take the course. \nRequirements: Eligible Persons Only. \nPrerequisites: None \nCourseNo:OSH 200
URL:https://pipetrades.org/event/osha-30-online-course-september-2025/
CATEGORIES:OSHA
END:VEVENT
BEGIN:VEVENT
DTSTART;TZID=UTC:20250913T070000
DTEND;TZID=UTC:20250913T170000
DTSTAMP:20260419T203014
CREATED:20250519T221215Z
LAST-MODIFIED:20260121T222403Z
UID:10000100-1757746800-1757782800@pipetrades.org
SUMMARY:Continuity
DESCRIPTION:
URL:https://pipetrades.org/event/continuity-2/2025-09-13/
CATEGORIES:Continuity
END:VEVENT
BEGIN:VEVENT
DTSTART;VALUE=DATE:20251001
DTEND;VALUE=DATE:20251101
DTSTAMP:20260419T203014
CREATED:20250113T160541Z
LAST-MODIFIED:20250113T160541Z
UID:10000093-1759276800-1761955199@pipetrades.org
SUMMARY:OSHA 30 - Online Course October 2025
DESCRIPTION:This class is for UA Members and their Affiliates Only. You may not enroll in this course if you are neither. \nDescription:This online course provides the OSHA Outreach training for the OSHA 30 card. Students who successfully complete this course will obtain an OSHA 30hr card from an Authorized OTI. \nAfter you register for this class you will be emailed\, within 48 hours\, a link with information on username and password in order to take the course. \nRequirements: Eligible Persons Only. \nPrerequisites: None \nCourseNo:OSH 200
URL:https://pipetrades.org/event/osha-30-online-course-october-2025/
CATEGORIES:OSHA
END:VEVENT
BEGIN:VEVENT
DTSTART;TZID=UTC:20251011T070000
DTEND;TZID=UTC:20251011T170000
DTSTAMP:20260419T203014
CREATED:20250519T221215Z
LAST-MODIFIED:20260121T222403Z
UID:10000101-1760166000-1760202000@pipetrades.org
SUMMARY:Continuity
DESCRIPTION:
URL:https://pipetrades.org/event/continuity-2/2025-10-11/
CATEGORIES:Continuity
END:VEVENT
BEGIN:VEVENT
DTSTART;VALUE=DATE:20251101
DTEND;VALUE=DATE:20251201
DTSTAMP:20260419T203014
CREATED:20250113T160644Z
LAST-MODIFIED:20250113T160644Z
UID:10000094-1761955200-1764547199@pipetrades.org
SUMMARY:OSHA 30 - Online Course November 2025
DESCRIPTION:This class is for UA Members and their Affiliates Only. You may not enroll in this course if you are neither. \nDescription:This online course provides the OSHA Outreach training for the OSHA 30 card. Students who successfully complete this course will obtain an OSHA 30hr card from an Authorized OTI. \nAfter you register for this class you will be emailed\, within 48 hours\, a link with information on username and password in order to take the course. \nRequirements: Eligible Persons Only. \nPrerequisites: None \nCourseNo:OSH 200
URL:https://pipetrades.org/event/osha-30-online-course-november-2025/
CATEGORIES:OSHA
END:VEVENT
BEGIN:VEVENT
DTSTART;TZID=UTC:20251108T070000
DTEND;TZID=UTC:20251108T170000
DTSTAMP:20260419T203014
CREATED:20250519T221215Z
LAST-MODIFIED:20260121T222403Z
UID:10000102-1762585200-1762621200@pipetrades.org
SUMMARY:Continuity
DESCRIPTION:
URL:https://pipetrades.org/event/continuity-2/2025-11-08/
CATEGORIES:Continuity
END:VEVENT
BEGIN:VEVENT
DTSTART;VALUE=DATE:20251201
DTEND;VALUE=DATE:20260101
DTSTAMP:20260419T203014
CREATED:20250113T160745Z
LAST-MODIFIED:20250113T160745Z
UID:10000095-1764547200-1767225599@pipetrades.org
SUMMARY:OSHA 30 - Online Course December 2025
DESCRIPTION:This class is for UA Members and their Affiliates Only. You may not enroll in this course if you are neither. \nDescription:This online course provides the OSHA Outreach training for the OSHA 30 card. Students who successfully complete this course will obtain an OSHA 30hr card from an Authorized OTI. \nAfter you register for this class you will be emailed\, within 48 hours\, a link with information on username and password in order to take the course. \nRequirements: Eligible Persons Only. \nPrerequisites: None \nCourseNo:OSH 200
URL:https://pipetrades.org/event/osha-30-online-course-december-2025/
CATEGORIES:OSHA
END:VEVENT
BEGIN:VEVENT
DTSTART;TZID=UTC:20251213T070000
DTEND;TZID=UTC:20251213T170000
DTSTAMP:20260419T203014
CREATED:20250519T221215Z
LAST-MODIFIED:20260121T222403Z
UID:10000103-1765609200-1765645200@pipetrades.org
SUMMARY:Continuity
DESCRIPTION:
URL:https://pipetrades.org/event/continuity-2/2025-12-13/
CATEGORIES:Continuity
END:VEVENT
BEGIN:VEVENT
DTSTART;TZID=UTC:20260110T070000
DTEND;TZID=UTC:20260110T170000
DTSTAMP:20260419T203014
CREATED:20250519T221215Z
LAST-MODIFIED:20260121T222403Z
UID:10000104-1768028400-1768064400@pipetrades.org
SUMMARY:Continuity
DESCRIPTION:
URL:https://pipetrades.org/event/continuity-2/2026-01-10/
CATEGORIES:Continuity
END:VEVENT
BEGIN:VEVENT
DTSTART;TZID=UTC:20260207T070000
DTEND;TZID=UTC:20260207T170000
DTSTAMP:20260419T203014
CREATED:20260121T222521Z
LAST-MODIFIED:20260121T222521Z
UID:10000165-1770447600-1770483600@pipetrades.org
SUMMARY:Continuity
DESCRIPTION:
URL:https://pipetrades.org/event/continuity-3/
END:VEVENT
BEGIN:VEVENT
DTSTART;TZID=UTC:20260314T070000
DTEND;TZID=UTC:20260314T170000
DTSTAMP:20260419T203014
CREATED:20250519T221215Z
LAST-MODIFIED:20260121T222403Z
UID:10000106-1773471600-1773507600@pipetrades.org
SUMMARY:Continuity
DESCRIPTION:
URL:https://pipetrades.org/event/continuity-2/2026-03-14/
CATEGORIES:Continuity
END:VEVENT
BEGIN:VEVENT
DTSTART;TZID=UTC:20260411T070000
DTEND;TZID=UTC:20260411T170000
DTSTAMP:20260419T203014
CREATED:20250519T221215Z
LAST-MODIFIED:20260121T222403Z
UID:10000107-1775890800-1775926800@pipetrades.org
SUMMARY:Continuity
DESCRIPTION:
URL:https://pipetrades.org/event/continuity-2/2026-04-11/
CATEGORIES:Continuity
END:VEVENT
BEGIN:VEVENT
DTSTART;TZID=UTC:20260509T070000
DTEND;TZID=UTC:20260509T170000
DTSTAMP:20260419T203014
CREATED:20250519T221215Z
LAST-MODIFIED:20260121T222403Z
UID:10000108-1778310000-1778346000@pipetrades.org
SUMMARY:Continuity
DESCRIPTION:
URL:https://pipetrades.org/event/continuity-2/2026-05-09/
CATEGORIES:Continuity
END:VEVENT
BEGIN:VEVENT
DTSTART;TZID=UTC:20260613T070000
DTEND;TZID=UTC:20260613T170000
DTSTAMP:20260419T203014
CREATED:20250519T221215Z
LAST-MODIFIED:20260121T222403Z
UID:10000109-1781334000-1781370000@pipetrades.org
SUMMARY:Continuity
DESCRIPTION:
URL:https://pipetrades.org/event/continuity-2/2026-06-13/
CATEGORIES:Continuity
END:VEVENT
BEGIN:VEVENT
DTSTART;TZID=UTC:20260711T070000
DTEND;TZID=UTC:20260711T170000
DTSTAMP:20260419T203014
CREATED:20250519T221215Z
LAST-MODIFIED:20260121T222403Z
UID:10000110-1783753200-1783789200@pipetrades.org
SUMMARY:Continuity
DESCRIPTION:
URL:https://pipetrades.org/event/continuity-2/2026-07-11/
CATEGORIES:Continuity
END:VEVENT
BEGIN:VEVENT
DTSTART;TZID=UTC:20260808T070000
DTEND;TZID=UTC:20260808T170000
DTSTAMP:20260419T203014
CREATED:20250519T221215Z
LAST-MODIFIED:20260121T222403Z
UID:10000111-1786172400-1786208400@pipetrades.org
SUMMARY:Continuity
DESCRIPTION:
URL:https://pipetrades.org/event/continuity-2/2026-08-08/
CATEGORIES:Continuity
END:VEVENT
BEGIN:VEVENT
DTSTART;TZID=UTC:20260912T070000
DTEND;TZID=UTC:20260912T170000
DTSTAMP:20260419T203015
CREATED:20250519T221215Z
LAST-MODIFIED:20260121T222403Z
UID:10000112-1789196400-1789232400@pipetrades.org
SUMMARY:Continuity
DESCRIPTION:
URL:https://pipetrades.org/event/continuity-2/2026-09-12/
CATEGORIES:Continuity
END:VEVENT
BEGIN:VEVENT
DTSTART;TZID=UTC:20261010T070000
DTEND;TZID=UTC:20261010T170000
DTSTAMP:20260419T203015
CREATED:20250519T221215Z
LAST-MODIFIED:20260121T222403Z
UID:10000113-1791615600-1791651600@pipetrades.org
SUMMARY:Continuity
DESCRIPTION:
URL:https://pipetrades.org/event/continuity-2/2026-10-10/
CATEGORIES:Continuity
END:VEVENT
BEGIN:VEVENT
DTSTART;TZID=UTC:20261114T070000
DTEND;TZID=UTC:20261114T170000
DTSTAMP:20260419T203015
CREATED:20250519T221215Z
LAST-MODIFIED:20260121T222403Z
UID:10000114-1794639600-1794675600@pipetrades.org
SUMMARY:Continuity
DESCRIPTION:
URL:https://pipetrades.org/event/continuity-2/2026-11-14/
CATEGORIES:Continuity
END:VEVENT
END:VCALENDAR