BEGIN:VCALENDAR
VERSION:2.0
PRODID:-//Arizona Pipe Trades - ECPv6.15.20//NONSGML v1.0//EN
CALSCALE:GREGORIAN
METHOD:PUBLISH
X-WR-CALNAME:Arizona Pipe Trades
X-ORIGINAL-URL:https://pipetrades.org
X-WR-CALDESC:Events for Arizona Pipe Trades
REFRESH-INTERVAL;VALUE=DURATION:PT1H
X-Robots-Tag:noindex
X-PUBLISHED-TTL:PT1H
BEGIN:VTIMEZONE
TZID:UTC
BEGIN:STANDARD
TZOFFSETFROM:+0000
TZOFFSETTO:+0000
TZNAME:UTC
DTSTART:20260101T000000
END:STANDARD
END:VTIMEZONE
BEGIN:VEVENT
DTSTART;TZID=UTC:20270612T070000
DTEND;TZID=UTC:20270612T170000
DTSTAMP:20260420T012039
CREATED:20250519T221215Z
LAST-MODIFIED:20260121T222403Z
UID:10000121-1812783600-1812819600@pipetrades.org
SUMMARY:Continuity
DESCRIPTION:
URL:https://pipetrades.org/event/continuity-2/2027-06-12/
CATEGORIES:Continuity
END:VEVENT
BEGIN:VEVENT
DTSTART;TZID=UTC:20270710T070000
DTEND;TZID=UTC:20270710T170000
DTSTAMP:20260420T012039
CREATED:20250519T221215Z
LAST-MODIFIED:20260121T222403Z
UID:10000122-1815202800-1815238800@pipetrades.org
SUMMARY:Continuity
DESCRIPTION:
URL:https://pipetrades.org/event/continuity-2/2027-07-10/
CATEGORIES:Continuity
END:VEVENT
BEGIN:VEVENT
DTSTART;TZID=UTC:20270814T070000
DTEND;TZID=UTC:20270814T170000
DTSTAMP:20260420T012039
CREATED:20250519T221215Z
LAST-MODIFIED:20260121T222403Z
UID:10000123-1818226800-1818262800@pipetrades.org
SUMMARY:Continuity
DESCRIPTION:
URL:https://pipetrades.org/event/continuity-2/2027-08-14/
CATEGORIES:Continuity
END:VEVENT
BEGIN:VEVENT
DTSTART;TZID=UTC:20270911T070000
DTEND;TZID=UTC:20270911T170000
DTSTAMP:20260420T012039
CREATED:20250519T221215Z
LAST-MODIFIED:20260121T222403Z
UID:10000124-1820646000-1820682000@pipetrades.org
SUMMARY:Continuity
DESCRIPTION:
URL:https://pipetrades.org/event/continuity-2/2027-09-11/
CATEGORIES:Continuity
END:VEVENT
BEGIN:VEVENT
DTSTART;TZID=UTC:20271009T070000
DTEND;TZID=UTC:20271009T170000
DTSTAMP:20260420T012039
CREATED:20250519T221215Z
LAST-MODIFIED:20260121T222403Z
UID:10000125-1823065200-1823101200@pipetrades.org
SUMMARY:Continuity
DESCRIPTION:
URL:https://pipetrades.org/event/continuity-2/2027-10-09/
CATEGORIES:Continuity
END:VEVENT
BEGIN:VEVENT
DTSTART;TZID=UTC:20271113T070000
DTEND;TZID=UTC:20271113T170000
DTSTAMP:20260420T012039
CREATED:20250519T221215Z
LAST-MODIFIED:20260121T222403Z
UID:10000126-1826089200-1826125200@pipetrades.org
SUMMARY:Continuity
DESCRIPTION:
URL:https://pipetrades.org/event/continuity-2/2027-11-13/
CATEGORIES:Continuity
END:VEVENT
BEGIN:VEVENT
DTSTART;TZID=UTC:20271211T070000
DTEND;TZID=UTC:20271211T170000
DTSTAMP:20260420T012039
CREATED:20250519T221215Z
LAST-MODIFIED:20260121T222403Z
UID:10000127-1828508400-1828544400@pipetrades.org
SUMMARY:Continuity
DESCRIPTION:
URL:https://pipetrades.org/event/continuity-2/2027-12-11/
CATEGORIES:Continuity
END:VEVENT
BEGIN:VEVENT
DTSTART;TZID=UTC:20280108T070000
DTEND;TZID=UTC:20280108T170000
DTSTAMP:20260420T012039
CREATED:20250519T221215Z
LAST-MODIFIED:20260121T222403Z
UID:10000128-1830927600-1830963600@pipetrades.org
SUMMARY:Continuity
DESCRIPTION:
URL:https://pipetrades.org/event/continuity-2/2028-01-08/
CATEGORIES:Continuity
END:VEVENT
BEGIN:VEVENT
DTSTART;TZID=UTC:20280212T070000
DTEND;TZID=UTC:20280212T170000
DTSTAMP:20260420T012039
CREATED:20250519T221215Z
LAST-MODIFIED:20260121T222403Z
UID:10000129-1833951600-1833987600@pipetrades.org
SUMMARY:Continuity
DESCRIPTION:
URL:https://pipetrades.org/event/continuity-2/2028-02-12/
CATEGORIES:Continuity
END:VEVENT
BEGIN:VEVENT
DTSTART;TZID=UTC:20280311T070000
DTEND;TZID=UTC:20280311T170000
DTSTAMP:20260420T012039
CREATED:20250519T221215Z
LAST-MODIFIED:20260121T222403Z
UID:10000130-1836370800-1836406800@pipetrades.org
SUMMARY:Continuity
DESCRIPTION:
URL:https://pipetrades.org/event/continuity-2/2028-03-11/
CATEGORIES:Continuity
END:VEVENT
BEGIN:VEVENT
DTSTART;TZID=UTC:20280408T070000
DTEND;TZID=UTC:20280408T170000
DTSTAMP:20260420T012039
CREATED:20250519T221215Z
LAST-MODIFIED:20260121T222403Z
UID:10000131-1838790000-1838826000@pipetrades.org
SUMMARY:Continuity
DESCRIPTION:
URL:https://pipetrades.org/event/continuity-2/2028-04-08/
CATEGORIES:Continuity
END:VEVENT
BEGIN:VEVENT
DTSTART;TZID=UTC:20280513T070000
DTEND;TZID=UTC:20280513T170000
DTSTAMP:20260420T012039
CREATED:20250519T221215Z
LAST-MODIFIED:20260121T222403Z
UID:10000132-1841814000-1841850000@pipetrades.org
SUMMARY:Continuity
DESCRIPTION:
URL:https://pipetrades.org/event/continuity-2/2028-05-13/
CATEGORIES:Continuity
END:VEVENT
BEGIN:VEVENT
DTSTART;TZID=UTC:20280610T070000
DTEND;TZID=UTC:20280610T170000
DTSTAMP:20260420T012039
CREATED:20250519T221215Z
LAST-MODIFIED:20260121T222403Z
UID:10000133-1844233200-1844269200@pipetrades.org
SUMMARY:Continuity
DESCRIPTION:
URL:https://pipetrades.org/event/continuity-2/2028-06-10/
CATEGORIES:Continuity
END:VEVENT
BEGIN:VEVENT
DTSTART;TZID=UTC:20280708T070000
DTEND;TZID=UTC:20280708T170000
DTSTAMP:20260420T012039
CREATED:20250519T221215Z
LAST-MODIFIED:20260121T222403Z
UID:10000134-1846652400-1846688400@pipetrades.org
SUMMARY:Continuity
DESCRIPTION:
URL:https://pipetrades.org/event/continuity-2/2028-07-08/
CATEGORIES:Continuity
END:VEVENT
BEGIN:VEVENT
DTSTART;TZID=UTC:20280812T070000
DTEND;TZID=UTC:20280812T170000
DTSTAMP:20260420T012039
CREATED:20250519T221215Z
LAST-MODIFIED:20260121T222403Z
UID:10000135-1849676400-1849712400@pipetrades.org
SUMMARY:Continuity
DESCRIPTION:
URL:https://pipetrades.org/event/continuity-2/2028-08-12/
CATEGORIES:Continuity
END:VEVENT
BEGIN:VEVENT
DTSTART;TZID=UTC:20280909T070000
DTEND;TZID=UTC:20280909T170000
DTSTAMP:20260420T012039
CREATED:20250519T221215Z
LAST-MODIFIED:20260121T222403Z
UID:10000136-1852095600-1852131600@pipetrades.org
SUMMARY:Continuity
DESCRIPTION:
URL:https://pipetrades.org/event/continuity-2/2028-09-09/
CATEGORIES:Continuity
END:VEVENT
BEGIN:VEVENT
DTSTART;TZID=UTC:20281014T070000
DTEND;TZID=UTC:20281014T170000
DTSTAMP:20260420T012039
CREATED:20250519T221215Z
LAST-MODIFIED:20260121T222403Z
UID:10000137-1855119600-1855155600@pipetrades.org
SUMMARY:Continuity
DESCRIPTION:
URL:https://pipetrades.org/event/continuity-2/2028-10-14/
CATEGORIES:Continuity
END:VEVENT
BEGIN:VEVENT
DTSTART;TZID=UTC:20281111T070000
DTEND;TZID=UTC:20281111T170000
DTSTAMP:20260420T012039
CREATED:20250519T221215Z
LAST-MODIFIED:20260121T222403Z
UID:10000138-1857538800-1857574800@pipetrades.org
SUMMARY:Continuity
DESCRIPTION:
URL:https://pipetrades.org/event/continuity-2/2028-11-11/
CATEGORIES:Continuity
END:VEVENT
BEGIN:VEVENT
DTSTART;TZID=UTC:20281209T070000
DTEND;TZID=UTC:20281209T170000
DTSTAMP:20260420T012039
CREATED:20250519T221215Z
LAST-MODIFIED:20260121T222403Z
UID:10000139-1859958000-1859994000@pipetrades.org
SUMMARY:Continuity
DESCRIPTION:
URL:https://pipetrades.org/event/continuity-2/2028-12-09/
CATEGORIES:Continuity
END:VEVENT
BEGIN:VEVENT
DTSTART;TZID=UTC:20290113T070000
DTEND;TZID=UTC:20290113T170000
DTSTAMP:20260420T012039
CREATED:20250519T221215Z
LAST-MODIFIED:20260121T222403Z
UID:10000140-1862982000-1863018000@pipetrades.org
SUMMARY:Continuity
DESCRIPTION:
URL:https://pipetrades.org/event/continuity-2/2029-01-13/
CATEGORIES:Continuity
END:VEVENT
BEGIN:VEVENT
DTSTART;TZID=UTC:20290210T070000
DTEND;TZID=UTC:20290210T170000
DTSTAMP:20260420T012039
CREATED:20250519T221215Z
LAST-MODIFIED:20260121T222403Z
UID:10000141-1865401200-1865437200@pipetrades.org
SUMMARY:Continuity
DESCRIPTION:
URL:https://pipetrades.org/event/continuity-2/2029-02-10/
CATEGORIES:Continuity
END:VEVENT
BEGIN:VEVENT
DTSTART;TZID=UTC:20290310T070000
DTEND;TZID=UTC:20290310T170000
DTSTAMP:20260420T012039
CREATED:20250519T221215Z
LAST-MODIFIED:20260121T222403Z
UID:10000142-1867820400-1867856400@pipetrades.org
SUMMARY:Continuity
DESCRIPTION:
URL:https://pipetrades.org/event/continuity-2/2029-03-10/
CATEGORIES:Continuity
END:VEVENT
BEGIN:VEVENT
DTSTART;TZID=UTC:20290414T070000
DTEND;TZID=UTC:20290414T170000
DTSTAMP:20260420T012039
CREATED:20250519T221215Z
LAST-MODIFIED:20260121T222403Z
UID:10000143-1870844400-1870880400@pipetrades.org
SUMMARY:Continuity
DESCRIPTION:
URL:https://pipetrades.org/event/continuity-2/2029-04-14/
CATEGORIES:Continuity
END:VEVENT
BEGIN:VEVENT
DTSTART;TZID=UTC:20290512T070000
DTEND;TZID=UTC:20290512T170000
DTSTAMP:20260420T012039
CREATED:20250519T221215Z
LAST-MODIFIED:20260121T222403Z
UID:10000144-1873263600-1873299600@pipetrades.org
SUMMARY:Continuity
DESCRIPTION:
URL:https://pipetrades.org/event/continuity-2/2029-05-12/
CATEGORIES:Continuity
END:VEVENT
BEGIN:VEVENT
DTSTART;TZID=UTC:20290609T070000
DTEND;TZID=UTC:20290609T170000
DTSTAMP:20260420T012039
CREATED:20250519T221215Z
LAST-MODIFIED:20260121T222403Z
UID:10000145-1875682800-1875718800@pipetrades.org
SUMMARY:Continuity
DESCRIPTION:
URL:https://pipetrades.org/event/continuity-2/2029-06-09/
CATEGORIES:Continuity
END:VEVENT
BEGIN:VEVENT
DTSTART;TZID=UTC:20290714T070000
DTEND;TZID=UTC:20290714T170000
DTSTAMP:20260420T012039
CREATED:20250519T221215Z
LAST-MODIFIED:20260121T222403Z
UID:10000146-1878706800-1878742800@pipetrades.org
SUMMARY:Continuity
DESCRIPTION:
URL:https://pipetrades.org/event/continuity-2/2029-07-14/
CATEGORIES:Continuity
END:VEVENT
BEGIN:VEVENT
DTSTART;TZID=UTC:20290811T070000
DTEND;TZID=UTC:20290811T170000
DTSTAMP:20260420T012039
CREATED:20250519T221215Z
LAST-MODIFIED:20260121T222403Z
UID:10000147-1881126000-1881162000@pipetrades.org
SUMMARY:Continuity
DESCRIPTION:
URL:https://pipetrades.org/event/continuity-2/2029-08-11/
CATEGORIES:Continuity
END:VEVENT
BEGIN:VEVENT
DTSTART;TZID=UTC:20290908T070000
DTEND;TZID=UTC:20290908T170000
DTSTAMP:20260420T012039
CREATED:20250519T221215Z
LAST-MODIFIED:20260121T222403Z
UID:10000148-1883545200-1883581200@pipetrades.org
SUMMARY:Continuity
DESCRIPTION:
URL:https://pipetrades.org/event/continuity-2/2029-09-08/
CATEGORIES:Continuity
END:VEVENT
BEGIN:VEVENT
DTSTART;TZID=UTC:20291013T070000
DTEND;TZID=UTC:20291013T170000
DTSTAMP:20260420T012039
CREATED:20250519T221215Z
LAST-MODIFIED:20260121T222403Z
UID:10000149-1886569200-1886605200@pipetrades.org
SUMMARY:Continuity
DESCRIPTION:
URL:https://pipetrades.org/event/continuity-2/2029-10-13/
CATEGORIES:Continuity
END:VEVENT
BEGIN:VEVENT
DTSTART;TZID=UTC:20291110T070000
DTEND;TZID=UTC:20291110T170000
DTSTAMP:20260420T012039
CREATED:20250519T221215Z
LAST-MODIFIED:20260121T222403Z
UID:10000150-1888988400-1889024400@pipetrades.org
SUMMARY:Continuity
DESCRIPTION:
URL:https://pipetrades.org/event/continuity-2/2029-11-10/
CATEGORIES:Continuity
END:VEVENT
END:VCALENDAR