BEGIN:VCALENDAR
VERSION:2.0
PRODID:-//Arizona Pipe Trades - ECPv6.15.20//NONSGML v1.0//EN
CALSCALE:GREGORIAN
METHOD:PUBLISH
X-WR-CALNAME:Arizona Pipe Trades
X-ORIGINAL-URL:https://pipetrades.org
X-WR-CALDESC:Events for Arizona Pipe Trades
REFRESH-INTERVAL;VALUE=DURATION:PT1H
X-Robots-Tag:noindex
X-PUBLISHED-TTL:PT1H
BEGIN:VTIMEZONE
TZID:UTC
BEGIN:STANDARD
TZOFFSETFROM:+0000
TZOFFSETTO:+0000
TZNAME:UTC
DTSTART:20230101T000000
END:STANDARD
END:VTIMEZONE
BEGIN:VTIMEZONE
TZID:America/Phoenix
BEGIN:STANDARD
TZOFFSETFROM:-0700
TZOFFSETTO:-0700
TZNAME:MST
DTSTART:20230101T000000
END:STANDARD
END:VTIMEZONE
BEGIN:VEVENT
DTSTART;TZID=UTC:20241012T170000
DTEND;TZID=UTC:20241012T210000
DTSTAMP:20260420T054552
CREATED:20240502T231906Z
LAST-MODIFIED:20240502T231906Z
UID:10000076-1728752400-1728766800@pipetrades.org
SUMMARY:2023 Pin Ceremony
DESCRIPTION:Details will be posted at a later date.
URL:https://pipetrades.org/event/2023-pin-ceremony/
LOCATION:UA Local 469\, 3109 N. 24th St\, Phoenix\, AZ\, 85016\, United States
CATEGORIES:Events
END:VEVENT
BEGIN:VEVENT
DTSTART;VALUE=DATE:20241007
DTEND;VALUE=DATE:20241008
DTSTAMP:20260420T054552
CREATED:20240305T205023Z
LAST-MODIFIED:20240305T205023Z
UID:10000049-1728259200-1728345599@pipetrades.org
SUMMARY:PTF/ISO Group 1\, Week 3.  PTB/AMB Group 6\, Week 2
DESCRIPTION:
URL:https://pipetrades.org/event/ptf-iso-group-1-week-3-ptb-amb-group-6-week-2/
END:VEVENT
BEGIN:VEVENT
DTSTART;VALUE=DATE:20241005
DTEND;VALUE=DATE:20241006
DTSTAMP:20260420T054552
CREATED:20240502T231756Z
LAST-MODIFIED:20240502T232250Z
UID:10000075-1728086400-1728172799@pipetrades.org
SUMMARY:2024 469 Health Fair
DESCRIPTION:Details will be posted at a later date.
URL:https://pipetrades.org/event/2024-469-health-fair/
CATEGORIES:Events
END:VEVENT
BEGIN:VEVENT
DTSTART;TZID=America/Phoenix:20241001T000000
DTEND;TZID=America/Phoenix:20241031T234500
DTSTAMP:20260420T054552
CREATED:20240301T224530Z
LAST-MODIFIED:20240308T195435Z
UID:10000009-1727740800-1730418300@pipetrades.org
SUMMARY:OSHA 30 Online Course - October 2024
DESCRIPTION:OSHA 30 Online class\n\n\nThis class is for UA Members and their Affiliates Only. You may not enroll in this course if you are neither.\n \n\n\nDescription:This online course provides the OSHA Outreach training for the OSHA 30 card. Students who successfully complete this course will obtain an OSHA 30hr card from an Authorized OTI.\n \n \nAfter you register for this class you will be emailed\, within 48 hours\, a link with information on username and password  in order to take the course.\n \n \nRequirements: Eligible Persons Only.\n \n \nPrerequisites: None\n \n \nCourseNo:OSH 200
URL:https://pipetrades.org/event/osha-30-online-course-october-2024/
CATEGORIES:OSHA
END:VEVENT
BEGIN:VEVENT
DTSTART;VALUE=DATE:20240930
DTEND;VALUE=DATE:20241001
DTSTAMP:20260420T054552
CREATED:20240305T204946Z
LAST-MODIFIED:20240305T204946Z
UID:10000048-1727654400-1727740799@pipetrades.org
SUMMARY:PTF/ISO Group 7\, Week 2.  PTB/AMB Group 5\, Week 2
DESCRIPTION:
URL:https://pipetrades.org/event/ptf-iso-group-7-week-2-ptb-amb-group-5-week-2/
END:VEVENT
BEGIN:VEVENT
DTSTART;VALUE=DATE:20240923
DTEND;VALUE=DATE:20240924
DTSTAMP:20260420T054552
CREATED:20240305T204910Z
LAST-MODIFIED:20240305T204910Z
UID:10000047-1727049600-1727135999@pipetrades.org
SUMMARY:PTF/ISO Group 6\, Week 2.  PTB/AMB Group 4\, Week 2
DESCRIPTION:
URL:https://pipetrades.org/event/ptf-iso-group-6-week-2-ptb-amb-group-4-week-2/
END:VEVENT
BEGIN:VEVENT
DTSTART;TZID=UTC:20240921T090000
DTEND;TZID=UTC:20240921T120000
DTSTAMP:20260420T054552
CREATED:20240502T224122Z
LAST-MODIFIED:20240815T024409Z
UID:10000061-1726909200-1726920000@pipetrades.org
SUMMARY:Union Meeting
DESCRIPTION:
URL:https://pipetrades.org/event/union-meeting/2024-09-21/
LOCATION:UA Local 469\, 3109 N. 24th St\, Phoenix\, AZ\, 85016\, United States
CATEGORIES:Union Meeting
END:VEVENT
BEGIN:VEVENT
DTSTART;TZID=UTC:20240918T170000
DTEND;TZID=UTC:20240918T210000
DTSTAMP:20260420T054552
CREATED:20240502T231058Z
LAST-MODIFIED:20240502T231144Z
UID:10000069-1726678800-1726693200@pipetrades.org
SUMMARY:Union Awareness
DESCRIPTION:
URL:https://pipetrades.org/event/union-awareness/2024-09-18/
LOCATION:UA Local 469\, 3109 N. 24th St\, Phoenix\, AZ\, 85016\, United States
CATEGORIES:Union Awareness
END:VEVENT
BEGIN:VEVENT
DTSTART;VALUE=DATE:20240916
DTEND;VALUE=DATE:20240917
DTSTAMP:20260420T054552
CREATED:20240305T204837Z
LAST-MODIFIED:20240305T204837Z
UID:10000046-1726444800-1726531199@pipetrades.org
SUMMARY:PTF/ISO Group 5\, Week 2.  PTB/AMB Group 3\, Week 2
DESCRIPTION:
URL:https://pipetrades.org/event/ptf-iso-group-5-week-2-ptb-amb-group-3-week-2/
END:VEVENT
BEGIN:VEVENT
DTSTART;VALUE=DATE:20240909
DTEND;VALUE=DATE:20240910
DTSTAMP:20260420T054552
CREATED:20240305T204802Z
LAST-MODIFIED:20240305T204802Z
UID:10000045-1725840000-1725926399@pipetrades.org
SUMMARY:PTF/ISO Group 4\, Week 2.  PTB/AMB Group 2\, Week 2
DESCRIPTION:
URL:https://pipetrades.org/event/ptf-iso-group-4-week-2-ptb-amb-group-2-week-2/
END:VEVENT
BEGIN:VEVENT
DTSTART;VALUE=DATE:20240903
DTEND;VALUE=DATE:20240904
DTSTAMP:20260420T054552
CREATED:20240305T204725Z
LAST-MODIFIED:20240305T204725Z
UID:10000044-1725321600-1725407999@pipetrades.org
SUMMARY:PTF/ISO Group 3\, Week 2. PTB/AMB Group 1\, Week 2. 4 x 10 week
DESCRIPTION:
URL:https://pipetrades.org/event/ptf-iso-group-3-week-2-ptb-amb-group-1-week-2-4-x-10-week/
END:VEVENT
BEGIN:VEVENT
DTSTART;VALUE=DATE:20240902
DTEND;VALUE=DATE:20240903
DTSTAMP:20260420T054552
CREATED:20240502T231623Z
LAST-MODIFIED:20240502T231623Z
UID:10000074-1725235200-1725321599@pipetrades.org
SUMMARY:Labor Day Baseball Game
DESCRIPTION:Please email Cathy at P.I.P.E for tickets and details. CMayeux@pipetrust.org
URL:https://pipetrades.org/event/labor-day-baseball-game/
CATEGORIES:Events
END:VEVENT
BEGIN:VEVENT
DTSTART;VALUE=DATE:20240902
DTEND;VALUE=DATE:20240903
DTSTAMP:20260420T054552
CREATED:20240305T202759Z
LAST-MODIFIED:20240308T195506Z
UID:10000028-1725235200-1725321599@pipetrades.org
SUMMARY:Apprenticeship Closed
DESCRIPTION:
URL:https://pipetrades.org/event/apprenticeship-closed-3/
CATEGORIES:Apprentice
END:VEVENT
BEGIN:VEVENT
DTSTART;VALUE=DATE:20240902
DTEND;VALUE=DATE:20240903
DTSTAMP:20260420T054552
CREATED:20240305T202224Z
LAST-MODIFIED:20240305T202224Z
UID:10000020-1725235200-1725321599@pipetrades.org
SUMMARY:No School
DESCRIPTION:
URL:https://pipetrades.org/event/no-school/
END:VEVENT
BEGIN:VEVENT
DTSTART;TZID=America/Phoenix:20240901T000000
DTEND;TZID=America/Phoenix:20240930T234500
DTSTAMP:20260420T054552
CREATED:20240301T224529Z
LAST-MODIFIED:20240308T195512Z
UID:10000008-1725148800-1727739900@pipetrades.org
SUMMARY:OSHA 30 Online Course - September 2024
DESCRIPTION:OSHA 30 Online class\n\n\nThis class is for UA Members and their Affiliates Only. You may not enroll in this course if you are neither.\n \n\n\nDescription:This online course provides the OSHA Outreach training for the OSHA 30 card. Students who successfully complete this course will obtain an OSHA 30hr card from an Authorized OTI.\n \n \nAfter you register for this class you will be emailed\, within 48 hours\, a link with information on username and password  in order to take the course.\n \n \nRequirements: Eligible Persons Only.\n \n \nPrerequisites: None\n \n \nCourseNo:OSH 200
URL:https://pipetrades.org/event/osha-30-online-course-september-2024/
CATEGORIES:OSHA
END:VEVENT
BEGIN:VEVENT
DTSTART;VALUE=DATE:20240826
DTEND;VALUE=DATE:20240827
DTSTAMP:20260420T054552
CREATED:20240305T204446Z
LAST-MODIFIED:20240305T204525Z
UID:10000043-1724630400-1724716799@pipetrades.org
SUMMARY:PTF/ISO Group 2\, Week 2.  PTB/AMB Group 9\, Week 1
DESCRIPTION:
URL:https://pipetrades.org/event/ptb-amb-group-9-week-1/
END:VEVENT
BEGIN:VEVENT
DTSTART;VALUE=DATE:20240819
DTEND;VALUE=DATE:20240820
DTSTAMP:20260420T054552
CREATED:20240305T204001Z
LAST-MODIFIED:20240305T204651Z
UID:10000040-1724025600-1724111999@pipetrades.org
SUMMARY:PTF/ISO Group 1\, Week 2.  PTB/AMB Group 8\, Week 1
DESCRIPTION:
URL:https://pipetrades.org/event/ptf-iso-group-1-week-2/
END:VEVENT
BEGIN:VEVENT
DTSTART;TZID=UTC:20240816T180000
DTEND;TZID=UTC:20240816T210000
DTSTAMP:20260420T054552
CREATED:20240502T224122Z
LAST-MODIFIED:20240815T024409Z
UID:10000081-1723831200-1723842000@pipetrades.org
SUMMARY:Union Meeting
DESCRIPTION:
URL:https://pipetrades.org/event/union-meeting/2024-08-16/
LOCATION:UA Local 469\, 3109 N. 24th St\, Phoenix\, AZ\, 85016\, United States
CATEGORIES:Union Meeting
END:VEVENT
BEGIN:VEVENT
DTSTART;TZID=UTC:20240814T170000
DTEND;TZID=UTC:20240814T210000
DTSTAMP:20260420T054552
CREATED:20240502T231058Z
LAST-MODIFIED:20240502T231144Z
UID:10000068-1723654800-1723669200@pipetrades.org
SUMMARY:Union Awareness
DESCRIPTION:
URL:https://pipetrades.org/event/union-awareness/2024-08-14/
LOCATION:UA Local 469\, 3109 N. 24th St\, Phoenix\, AZ\, 85016\, United States
CATEGORIES:Union Awareness
END:VEVENT
BEGIN:VEVENT
DTSTART;VALUE=DATE:20240805
DTEND;VALUE=DATE:20240806
DTSTAMP:20260420T054552
CREATED:20240305T203834Z
LAST-MODIFIED:20240305T203834Z
UID:10000039-1722816000-1722902399@pipetrades.org
SUMMARY:Group 7\, Week 1\, PTF/PTB/AMB/ISO 4 x 10 week
DESCRIPTION:
URL:https://pipetrades.org/event/group-7-week-1-ptf-ptb-amb-iso-4-x-10-week/
END:VEVENT
BEGIN:VEVENT
DTSTART;VALUE=DATE:20240803
DTEND;VALUE=DATE:20240804
DTSTAMP:20260420T054552
CREATED:20240701T205019Z
LAST-MODIFIED:20240701T205019Z
UID:10000080-1722643200-1722729599@pipetrades.org
SUMMARY:Continuity
DESCRIPTION:Due to ITP we will be holding Continuity on the first Saturday for the month of August
URL:https://pipetrades.org/event/continuity/
END:VEVENT
BEGIN:VEVENT
DTSTART;TZID=America/Phoenix:20240801T000000
DTEND;TZID=America/Phoenix:20240831T234500
DTSTAMP:20260420T054552
CREATED:20240301T224529Z
LAST-MODIFIED:20240308T195519Z
UID:10000007-1722470400-1725147900@pipetrades.org
SUMMARY:OSHA 30 Online Course - August 2024
DESCRIPTION:OSHA 30 Online class\n\n\nThis class is for UA Members and their Affiliates Only. You may not enroll in this course if you are neither.\n \n\n\nDescription:This online course provides the OSHA Outreach training for the OSHA 30 card. Students who successfully complete this course will obtain an OSHA 30hr card from an Authorized OTI.\n \n \nAfter you register for this class you will be emailed\, within 48 hours\, a link with information on username and password  in order to take the course.\n \n \nRequirements: Eligible Persons Only.\n \n \nPrerequisites: None\n \n \nCourseNo:OSH 200
URL:https://pipetrades.org/event/osha-30-online-course-august-2024/
CATEGORIES:OSHA
END:VEVENT
BEGIN:VEVENT
DTSTART;VALUE=DATE:20240730
DTEND;VALUE=DATE:20240731
DTSTAMP:20260420T054552
CREATED:20240305T202041Z
LAST-MODIFIED:20240305T202041Z
UID:10000019-1722297600-1722383999@pipetrades.org
SUMMARY:T/Th First Night of Class
DESCRIPTION:
URL:https://pipetrades.org/event/t-th-first-night-of-class/
END:VEVENT
BEGIN:VEVENT
DTSTART;VALUE=DATE:20240729
DTEND;VALUE=DATE:20240730
DTSTAMP:20260420T054552
CREATED:20240305T203753Z
LAST-MODIFIED:20240305T203753Z
UID:10000038-1722211200-1722297599@pipetrades.org
SUMMARY:Group 6\, Week 1\, PTF/PTB/AMB/ISO
DESCRIPTION:
URL:https://pipetrades.org/event/group-6-week-1-ptf-ptb-amb-iso/
END:VEVENT
BEGIN:VEVENT
DTSTART;VALUE=DATE:20240724
DTEND;VALUE=DATE:20240725
DTSTAMP:20260420T054552
CREATED:20240305T201958Z
LAST-MODIFIED:20240305T201958Z
UID:10000018-1721779200-1721865599@pipetrades.org
SUMMARY:M/W First Night of Class
DESCRIPTION:
URL:https://pipetrades.org/event/m-w-first-night-of-class/
END:VEVENT
BEGIN:VEVENT
DTSTART;VALUE=DATE:20240723
DTEND;VALUE=DATE:20240724
DTSTAMP:20260420T054552
CREATED:20240305T201815Z
LAST-MODIFIED:20240305T201815Z
UID:10000017-1721692800-1721779199@pipetrades.org
SUMMARY:T/Th Night Orientation
DESCRIPTION:
URL:https://pipetrades.org/event/t-th-night-orientation/
END:VEVENT
BEGIN:VEVENT
DTSTART;VALUE=DATE:20240722
DTEND;VALUE=DATE:20240723
DTSTAMP:20260420T054552
CREATED:20240305T203727Z
LAST-MODIFIED:20240305T203727Z
UID:10000037-1721606400-1721692799@pipetrades.org
SUMMARY:Group 5\, Week 1\, PTF/PTB/AMB/ISO
DESCRIPTION:
URL:https://pipetrades.org/event/group-5-week-1-ptf-ptb-amb-iso/
END:VEVENT
BEGIN:VEVENT
DTSTART;VALUE=DATE:20240722
DTEND;VALUE=DATE:20240723
DTSTAMP:20260420T054552
CREATED:20240305T201629Z
LAST-MODIFIED:20240305T201629Z
UID:10000016-1721606400-1721692799@pipetrades.org
SUMMARY:M/W Night Orientation
DESCRIPTION:
URL:https://pipetrades.org/event/m-w-night-orientation/
END:VEVENT
BEGIN:VEVENT
DTSTART;TZID=UTC:20240719T170000
DTEND;TZID=UTC:20240719T210000
DTSTAMP:20260420T054552
CREATED:20240502T224122Z
LAST-MODIFIED:20240815T024409Z
UID:10000059-1721408400-1721422800@pipetrades.org
SUMMARY:Union Meeting
DESCRIPTION:
URL:https://pipetrades.org/event/union-meeting/2024-07-19/
LOCATION:UA Local 469\, 3109 N. 24th St\, Phoenix\, AZ\, 85016\, United States
CATEGORIES:Union Meeting
END:VEVENT
BEGIN:VEVENT
DTSTART;TZID=UTC:20240717T170000
DTEND;TZID=UTC:20240717T210000
DTSTAMP:20260420T054552
CREATED:20240502T231058Z
LAST-MODIFIED:20240502T231144Z
UID:10000067-1721235600-1721250000@pipetrades.org
SUMMARY:Union Awareness
DESCRIPTION:
URL:https://pipetrades.org/event/union-awareness/2024-07-17/
LOCATION:UA Local 469\, 3109 N. 24th St\, Phoenix\, AZ\, 85016\, United States
CATEGORIES:Union Awareness
END:VEVENT
END:VCALENDAR