BEGIN:VCALENDAR
VERSION:2.0
PRODID:-//Arizona Pipe Trades - ECPv6.15.20//NONSGML v1.0//EN
CALSCALE:GREGORIAN
METHOD:PUBLISH
X-ORIGINAL-URL:https://pipetrades.org
X-WR-CALDESC:Events for Arizona Pipe Trades
REFRESH-INTERVAL;VALUE=DURATION:PT1H
X-Robots-Tag:noindex
X-PUBLISHED-TTL:PT1H
BEGIN:VTIMEZONE
TZID:UTC
BEGIN:STANDARD
TZOFFSETFROM:+0000
TZOFFSETTO:+0000
TZNAME:UTC
DTSTART:20280101T000000
END:STANDARD
END:VTIMEZONE
BEGIN:VEVENT
DTSTART;TZID=UTC:20290609T070000
DTEND;TZID=UTC:20290609T170000
DTSTAMP:20260420T052206
CREATED:20250519T221215Z
LAST-MODIFIED:20260121T222403Z
UID:10000145-1875682800-1875718800@pipetrades.org
SUMMARY:Continuity
DESCRIPTION:
URL:https://pipetrades.org/event/continuity-2/2029-06-09/
CATEGORIES:Continuity
END:VEVENT
BEGIN:VEVENT
DTSTART;TZID=UTC:20290714T070000
DTEND;TZID=UTC:20290714T170000
DTSTAMP:20260420T052206
CREATED:20250519T221215Z
LAST-MODIFIED:20260121T222403Z
UID:10000146-1878706800-1878742800@pipetrades.org
SUMMARY:Continuity
DESCRIPTION:
URL:https://pipetrades.org/event/continuity-2/2029-07-14/
CATEGORIES:Continuity
END:VEVENT
BEGIN:VEVENT
DTSTART;TZID=UTC:20290811T070000
DTEND;TZID=UTC:20290811T170000
DTSTAMP:20260420T052206
CREATED:20250519T221215Z
LAST-MODIFIED:20260121T222403Z
UID:10000147-1881126000-1881162000@pipetrades.org
SUMMARY:Continuity
DESCRIPTION:
URL:https://pipetrades.org/event/continuity-2/2029-08-11/
CATEGORIES:Continuity
END:VEVENT
BEGIN:VEVENT
DTSTART;TZID=UTC:20290908T070000
DTEND;TZID=UTC:20290908T170000
DTSTAMP:20260420T052206
CREATED:20250519T221215Z
LAST-MODIFIED:20260121T222403Z
UID:10000148-1883545200-1883581200@pipetrades.org
SUMMARY:Continuity
DESCRIPTION:
URL:https://pipetrades.org/event/continuity-2/2029-09-08/
CATEGORIES:Continuity
END:VEVENT
BEGIN:VEVENT
DTSTART;TZID=UTC:20291013T070000
DTEND;TZID=UTC:20291013T170000
DTSTAMP:20260420T052206
CREATED:20250519T221215Z
LAST-MODIFIED:20260121T222403Z
UID:10000149-1886569200-1886605200@pipetrades.org
SUMMARY:Continuity
DESCRIPTION:
URL:https://pipetrades.org/event/continuity-2/2029-10-13/
CATEGORIES:Continuity
END:VEVENT
BEGIN:VEVENT
DTSTART;TZID=UTC:20291110T070000
DTEND;TZID=UTC:20291110T170000
DTSTAMP:20260420T052206
CREATED:20250519T221215Z
LAST-MODIFIED:20260121T222403Z
UID:10000150-1888988400-1889024400@pipetrades.org
SUMMARY:Continuity
DESCRIPTION:
URL:https://pipetrades.org/event/continuity-2/2029-11-10/
CATEGORIES:Continuity
END:VEVENT
BEGIN:VEVENT
DTSTART;TZID=UTC:20291208T070000
DTEND;TZID=UTC:20291208T170000
DTSTAMP:20260420T052206
CREATED:20250519T221215Z
LAST-MODIFIED:20260121T222403Z
UID:10000151-1891407600-1891443600@pipetrades.org
SUMMARY:Continuity
DESCRIPTION:
URL:https://pipetrades.org/event/continuity-2/2029-12-08/
CATEGORIES:Continuity
END:VEVENT
BEGIN:VEVENT
DTSTART;TZID=UTC:20300112T070000
DTEND;TZID=UTC:20300112T170000
DTSTAMP:20260420T052206
CREATED:20250519T221215Z
LAST-MODIFIED:20260121T222403Z
UID:10000152-1894431600-1894467600@pipetrades.org
SUMMARY:Continuity
DESCRIPTION:
URL:https://pipetrades.org/event/continuity-2/2030-01-12/
CATEGORIES:Continuity
END:VEVENT
BEGIN:VEVENT
DTSTART;TZID=UTC:20300209T070000
DTEND;TZID=UTC:20300209T170000
DTSTAMP:20260420T052206
CREATED:20250519T221215Z
LAST-MODIFIED:20260121T222403Z
UID:10000153-1896850800-1896886800@pipetrades.org
SUMMARY:Continuity
DESCRIPTION:
URL:https://pipetrades.org/event/continuity-2/2030-02-09/
CATEGORIES:Continuity
END:VEVENT
BEGIN:VEVENT
DTSTART;TZID=UTC:20300309T070000
DTEND;TZID=UTC:20300309T170000
DTSTAMP:20260420T052206
CREATED:20250519T221215Z
LAST-MODIFIED:20260121T222403Z
UID:10000154-1899270000-1899306000@pipetrades.org
SUMMARY:Continuity
DESCRIPTION:
URL:https://pipetrades.org/event/continuity-2/2030-03-09/
CATEGORIES:Continuity
END:VEVENT
BEGIN:VEVENT
DTSTART;TZID=UTC:20300413T070000
DTEND;TZID=UTC:20300413T170000
DTSTAMP:20260420T052206
CREATED:20250519T221215Z
LAST-MODIFIED:20260121T222403Z
UID:10000155-1902294000-1902330000@pipetrades.org
SUMMARY:Continuity
DESCRIPTION:
URL:https://pipetrades.org/event/continuity-2/2030-04-13/
CATEGORIES:Continuity
END:VEVENT
BEGIN:VEVENT
DTSTART;TZID=UTC:20300511T070000
DTEND;TZID=UTC:20300511T170000
DTSTAMP:20260420T052206
CREATED:20250519T221215Z
LAST-MODIFIED:20260121T222403Z
UID:10000156-1904713200-1904749200@pipetrades.org
SUMMARY:Continuity
DESCRIPTION:
URL:https://pipetrades.org/event/continuity-2/2030-05-11/
CATEGORIES:Continuity
END:VEVENT
BEGIN:VEVENT
DTSTART;TZID=UTC:20300608T070000
DTEND;TZID=UTC:20300608T170000
DTSTAMP:20260420T052206
CREATED:20250519T221215Z
LAST-MODIFIED:20260121T222403Z
UID:10000157-1907132400-1907168400@pipetrades.org
SUMMARY:Continuity
DESCRIPTION:
URL:https://pipetrades.org/event/continuity-2/2030-06-08/
CATEGORIES:Continuity
END:VEVENT
BEGIN:VEVENT
DTSTART;TZID=UTC:20300713T070000
DTEND;TZID=UTC:20300713T170000
DTSTAMP:20260420T052206
CREATED:20250519T221215Z
LAST-MODIFIED:20260121T222403Z
UID:10000158-1910156400-1910192400@pipetrades.org
SUMMARY:Continuity
DESCRIPTION:
URL:https://pipetrades.org/event/continuity-2/2030-07-13/
CATEGORIES:Continuity
END:VEVENT
BEGIN:VEVENT
DTSTART;TZID=UTC:20300810T070000
DTEND;TZID=UTC:20300810T170000
DTSTAMP:20260420T052206
CREATED:20250519T221215Z
LAST-MODIFIED:20260121T222403Z
UID:10000159-1912575600-1912611600@pipetrades.org
SUMMARY:Continuity
DESCRIPTION:
URL:https://pipetrades.org/event/continuity-2/2030-08-10/
CATEGORIES:Continuity
END:VEVENT
BEGIN:VEVENT
DTSTART;TZID=UTC:20300914T070000
DTEND;TZID=UTC:20300914T170000
DTSTAMP:20260420T052206
CREATED:20250519T221215Z
LAST-MODIFIED:20260121T222403Z
UID:10000160-1915599600-1915635600@pipetrades.org
SUMMARY:Continuity
DESCRIPTION:
URL:https://pipetrades.org/event/continuity-2/2030-09-14/
CATEGORIES:Continuity
END:VEVENT
BEGIN:VEVENT
DTSTART;TZID=UTC:20301012T070000
DTEND;TZID=UTC:20301012T170000
DTSTAMP:20260420T052206
CREATED:20250519T221215Z
LAST-MODIFIED:20260121T222403Z
UID:10000161-1918018800-1918054800@pipetrades.org
SUMMARY:Continuity
DESCRIPTION:
URL:https://pipetrades.org/event/continuity-2/2030-10-12/
CATEGORIES:Continuity
END:VEVENT
BEGIN:VEVENT
DTSTART;TZID=UTC:20301109T070000
DTEND;TZID=UTC:20301109T170000
DTSTAMP:20260420T052206
CREATED:20250519T221215Z
LAST-MODIFIED:20260121T222403Z
UID:10000162-1920438000-1920474000@pipetrades.org
SUMMARY:Continuity
DESCRIPTION:
URL:https://pipetrades.org/event/continuity-2/2030-11-09/
CATEGORIES:Continuity
END:VEVENT
BEGIN:VEVENT
DTSTART;TZID=UTC:20301214T070000
DTEND;TZID=UTC:20301214T170000
DTSTAMP:20260420T052206
CREATED:20250519T221215Z
LAST-MODIFIED:20260121T222403Z
UID:10000163-1923462000-1923498000@pipetrades.org
SUMMARY:Continuity
DESCRIPTION:
URL:https://pipetrades.org/event/continuity-2/2030-12-14/
CATEGORIES:Continuity
END:VEVENT
BEGIN:VEVENT
DTSTART;TZID=UTC:20310111T070000
DTEND;TZID=UTC:20310111T170000
DTSTAMP:20260420T052206
CREATED:20250519T221215Z
LAST-MODIFIED:20260121T222403Z
UID:10000164-1925881200-1925917200@pipetrades.org
SUMMARY:Continuity
DESCRIPTION:
URL:https://pipetrades.org/event/continuity-2/2031-01-11/
CATEGORIES:Continuity
END:VEVENT
END:VCALENDAR