BEGIN:VCALENDAR
VERSION:2.0
PRODID:-//Arizona Pipe Trades - ECPv6.15.20//NONSGML v1.0//EN
CALSCALE:GREGORIAN
METHOD:PUBLISH
X-WR-CALNAME:Arizona Pipe Trades
X-ORIGINAL-URL:https://pipetrades.org
X-WR-CALDESC:Events for Arizona Pipe Trades
REFRESH-INTERVAL;VALUE=DURATION:PT1H
X-Robots-Tag:noindex
X-PUBLISHED-TTL:PT1H
BEGIN:VTIMEZONE
TZID:America/Phoenix
BEGIN:STANDARD
TZOFFSETFROM:-0700
TZOFFSETTO:-0700
TZNAME:MST
DTSTART:20230101T000000
END:STANDARD
END:VTIMEZONE
BEGIN:VTIMEZONE
TZID:UTC
BEGIN:STANDARD
TZOFFSETFROM:+0000
TZOFFSETTO:+0000
TZNAME:UTC
DTSTART:20230101T000000
END:STANDARD
END:VTIMEZONE
BEGIN:VEVENT
DTSTART;TZID=America/Phoenix:20240401T000000
DTEND;TZID=America/Phoenix:20240430T234500
DTSTAMP:20260420T073020
CREATED:20240301T224527Z
LAST-MODIFIED:20240308T195554Z
UID:10000003-1711929600-1714520700@pipetrades.org
SUMMARY:OSHA 30 Online Course - April 2024
DESCRIPTION:OSHA 30 Online class\n\n\nThis class is for UA Members and their Affiliates Only. You may not enroll in this course if you are neither.\n \n\n\nDescription:This online course provides the OSHA Outreach training for the OSHA 30 card. Students who successfully complete this course will obtain an OSHA 30hr card from an Authorized OTI.\n \n \nAfter you register for this class you will be emailed\, within 48 hours\, a link with information on username and password  in order to take the course.\n \n \nRequirements: Eligible Persons Only.\n \n \nPrerequisites: None\n \n \nCourseNo:OSH 200
URL:https://pipetrades.org/event/osha-30-online-course-april-2024/
CATEGORIES:OSHA
END:VEVENT
BEGIN:VEVENT
DTSTART;VALUE=DATE:20240329
DTEND;VALUE=DATE:20240331
DTSTAMP:20260420T073020
CREATED:20240305T200428Z
LAST-MODIFIED:20240308T195601Z
UID:10000012-1711670400-1711843199@pipetrades.org
SUMMARY:Apprentice Contest
DESCRIPTION:
URL:https://pipetrades.org/event/apprentice-contest/
CATEGORIES:Apprentice
END:VEVENT
BEGIN:VEVENT
DTSTART;TZID=America/Phoenix:20240301T000000
DTEND;TZID=America/Phoenix:20240331T234500
DTSTAMP:20260420T073020
CREATED:20240301T224527Z
LAST-MODIFIED:20240308T212345Z
UID:10000002-1709251200-1711928700@pipetrades.org
SUMMARY:OSHA 30 Online Course - March 2024
DESCRIPTION:OSHA 30 Online class – This is not a scheduled event until the individual student registers for their session and they can register at anytime throughout the year based on when they are required to obtain their certification.\n\n\nThis class is for UA Members and their Affiliates Only. You may not enroll in this course if you are neither. \n\nDescription:This online course provides the OSHA Outreach training for the OSHA 30 card. Students who successfully complete this course will obtain an OSHA 30hr card from an Authorized OTI. \nAfter you register for this class you will be emailed\, within 48 hours\, a link with information on username and password in order to take the course. \nRequirements: Eligible Persons Only. \nPrerequisites: None \nCourseNo:OSH 200
URL:https://pipetrades.org/event/osha-30-online-course-march-2024/
CATEGORIES:OSHA
END:VEVENT
BEGIN:VEVENT
DTSTART;TZID=UTC:20240223T080000
DTEND;TZID=UTC:20240223T170000
DTSTAMP:20260420T073020
CREATED:20240223T205905Z
LAST-MODIFIED:20240223T205905Z
UID:10000001-1708675200-1708707600@pipetrades.org
SUMMARY:test event
DESCRIPTION:
URL:https://pipetrades.org/event/test-event/
END:VEVENT
END:VCALENDAR